BEGIN:VCALENDAR
VERSION:2.0
PRODID:spatie/icalendar-generator
DESCRIPTION:Events from Nottingham IVC
X-WR-CALDESC:Events from Nottingham IVC
REFRESH-INTERVAL;VALUE=DURATION:PT1440M
X-PUBLISHED-TTL:PT1440M
BEGIN:VTIMEZONE
TZID:Etc/GMT+0
BEGIN:STANDARD
DTSTART:20250723T153000Z
TZOFFSETFROM:+0000
TZOFFSETTO:+0000
END:STANDARD
END:VTIMEZONE
BEGIN:VTIMEZONE
TZID:UTC
BEGIN:STANDARD
DTSTART:20250723T191518Z
TZOFFSETFROM:+0000
TZOFFSETTO:+0000
END:STANDARD
END:VTIMEZONE
BEGIN:VEVENT
UID:176-70
DTSTAMP:20260419T191518Z
SUMMARY:Afternoon tea at the Ivy Brasserie Restaurant
LOCATION:Ivy Nottingham Brasserie 31 Bridlesmith Gate Nottingham City Centr
 e   NG1 2AX
ORGANIZER;CN=Jonno1:MAILTO:J.Hall457@btinternet.com
DTSTART;TZID=Etc/GMT+0:20260419T153000
DTEND;TZID=Etc/GMT+0:20260419T170000
X-ALT-DESC;FMTTYPE=TEXT/HTML:Afternoon tea at the Ivy Brasserie Restaurant.
   Meet 15:30 hrs at the venue.
CATEGORIES:General
URL;VALUE=URI:https://nottinghamivc.org.uk/mc-events/afternoon-tea-at-the-i
 vy-brasserie-restaurant/
METHOD:PUBLISH
END:VEVENT
END:VCALENDAR