BEGIN:VCALENDAR
VERSION:2.0
PRODID:spatie/icalendar-generator
DESCRIPTION:Events from Nottingham IVC
X-WR-CALDESC:Events from Nottingham IVC
REFRESH-INTERVAL;VALUE=DURATION:PT1440M
X-PUBLISHED-TTL:PT1440M
BEGIN:VTIMEZONE
TZID:Etc/GMT+0
BEGIN:STANDARD
DTSTART:20250720T183000Z
TZOFFSETFROM:+0000
TZOFFSETTO:+0000
END:STANDARD
END:VTIMEZONE
BEGIN:VTIMEZONE
TZID:UTC
BEGIN:STANDARD
DTSTART:20250723T191524Z
TZOFFSETFROM:+0000
TZOFFSETTO:+0000
END:STANDARD
END:VTIMEZONE
BEGIN:VEVENT
UID:174-68
DTSTAMP:20260419T191524Z
SUMMARY:Pie night at Rushcliffe Golf club
LOCATION:Rushcliffe Golf Club Stocking Lane East Leake Loughborough  LE12 5
 RL
ORGANIZER;CN=Jonno1:MAILTO:J.Hall457@btinternet.com
DTSTART;TZID=Etc/GMT+0:20260416T183000
DTEND;TZID=Etc/GMT+0:20260416T203000
X-ALT-DESC;FMTTYPE=TEXT/HTML:Pie night at Rushcliffe Golf Club.  Meet 18:3
 0 hrs at the venue.
CATEGORIES:General
URL;VALUE=URI:https://nottinghamivc.org.uk/mc-events/pie-night-at-rushcliff
 e-golf-club/
METHOD:PUBLISH
END:VEVENT
END:VCALENDAR