BEGIN:VCALENDAR
VERSION:2.0
PRODID:spatie/icalendar-generator
DESCRIPTION:Events from Nottingham IVC
X-WR-CALDESC:Events from Nottingham IVC
REFRESH-INTERVAL;VALUE=DURATION:PT1440M
X-PUBLISHED-TTL:PT1440M
BEGIN:VTIMEZONE
TZID:Etc/GMT+0
BEGIN:STANDARD
DTSTART:20250716T101500Z
TZOFFSETFROM:+0000
TZOFFSETTO:+0000
END:STANDARD
END:VTIMEZONE
BEGIN:VTIMEZONE
TZID:UTC
BEGIN:STANDARD
DTSTART:20250723T191715Z
TZOFFSETFROM:+0000
TZOFFSETTO:+0000
END:STANDARD
END:VTIMEZONE
BEGIN:VEVENT
UID:173-67
DTSTAMP:20260419T191715Z
SUMMARY:Breakfast Club at Brown's Restaurant
LOCATION:Brown\\'s Restaurant 20 Park Row Nottingham City Centre Nottingham
   NG1 6GR
ORGANIZER;CN=Jonno1:MAILTO:J.Hall457@btinternet.com
DTSTART;TZID=Etc/GMT+0:20260412T101500
DTEND;TZID=Etc/GMT+0:20260412T123000
X-ALT-DESC;FMTTYPE=TEXT/HTML:Breakfast club at Brown's Restaurant.  Meet 1
 0.15 hrs at the venue.
CATEGORIES:General
URL;VALUE=URI:https://nottinghamivc.org.uk/mc-events/breakfast-club-at-brow
 ns-restaurant/
METHOD:PUBLISH
END:VEVENT
END:VCALENDAR