BEGIN:VCALENDAR
VERSION:2.0
PRODID:spatie/icalendar-generator
DESCRIPTION:Events from Nottingham IVC
X-WR-CALDESC:Events from Nottingham IVC
REFRESH-INTERVAL;VALUE=DURATION:PT1440M
X-PUBLISHED-TTL:PT1440M
BEGIN:VTIMEZONE
TZID:Etc/GMT+0
BEGIN:STANDARD
DTSTART:20250804T193000Z
TZOFFSETFROM:+0000
TZOFFSETTO:+0000
END:STANDARD
END:VTIMEZONE
BEGIN:VTIMEZONE
TZID:UTC
BEGIN:STANDARD
DTSTART:20250723T204206Z
TZOFFSETFROM:+0000
TZOFFSETTO:+0000
END:STANDARD
END:VTIMEZONE
BEGIN:VEVENT
UID:180-74
DTSTAMP:20260419T204206Z
SUMMARY:Curry Club visit to Akshaya Restaurant
LOCATION:Akshaya Restaurant 41 Friar Lane Nottingham City Centre   NG1 6DD
ORGANIZER;CN=Jonno1:MAILTO:J.Hall457@btinternet.com
DTSTART;TZID=Etc/GMT+0:20260501T193000
DTEND;TZID=Etc/GMT+0:20260501T213000
X-ALT-DESC;FMTTYPE=TEXT/HTML:Curry club visit to Akshaya restaurant.  Meet
  19:30 hrs at the venue.
CATEGORIES:General
URL;VALUE=URI:https://nottinghamivc.org.uk/mc-events/curry-club-visit-to-ak
 shaya-restaurant/
METHOD:PUBLISH
END:VEVENT
END:VCALENDAR