BEGIN:VCALENDAR
VERSION:2.0
PRODID:spatie/icalendar-generator
DESCRIPTION:Events from Nottingham IVC
X-WR-CALDESC:Events from Nottingham IVC
REFRESH-INTERVAL;VALUE=DURATION:PT1440M
X-PUBLISHED-TTL:PT1440M
BEGIN:VTIMEZONE
TZID:Etc/GMT+0
BEGIN:STANDARD
DTSTART:20250728T170000Z
TZOFFSETFROM:+0000
TZOFFSETTO:+0000
END:STANDARD
END:VTIMEZONE
BEGIN:VTIMEZONE
TZID:UTC
BEGIN:STANDARD
DTSTART:20250723T204709Z
TZOFFSETFROM:+0000
TZOFFSETTO:+0000
END:STANDARD
END:VTIMEZONE
BEGIN:VEVENT
UID:178-72
DTSTAMP:20260419T204709Z
SUMMARY:Weekend in Cardiff to attend the AIVC national AGM
LOCATION:
ORGANIZER;CN=Jonno1:MAILTO:J.Hall457@btinternet.com
DTSTART;TZID=Etc/GMT+0:20260424T170000
DTEND;TZID=Etc/GMT+0:20260426T170000
X-ALT-DESC;FMTTYPE=TEXT/HTML:Weekend in Cardiff to view Cardiff castle\, wa
 lk around Cardiff Bay\, and to attend the national AIVC AGM on Sunday afte
 rnoon.
CATEGORIES:General
URL;VALUE=URI:https://nottinghamivc.org.uk/mc-events/weekend-in-cardiff-to-
 attend-the-aivc-national-agm/
METHOD:PUBLISH
END:VEVENT
END:VCALENDAR