BEGIN:VCALENDAR
VERSION:2.0
PRODID:spatie/icalendar-generator
DESCRIPTION:Events from Nottingham IVC
X-WR-CALDESC:Events from Nottingham IVC
REFRESH-INTERVAL;VALUE=DURATION:PT1440M
X-PUBLISHED-TTL:PT1440M
BEGIN:VTIMEZONE
TZID:Etc/GMT+0
BEGIN:STANDARD
DTSTART:20250721T203000Z
TZOFFSETFROM:+0000
TZOFFSETTO:+0000
END:STANDARD
END:VTIMEZONE
BEGIN:VTIMEZONE
TZID:UTC
BEGIN:STANDARD
DTSTART:20250723T203803Z
TZOFFSETFROM:+0000
TZOFFSETTO:+0000
END:STANDARD
END:VTIMEZONE
BEGIN:VEVENT
UID:175-69
DTSTAMP:20260419T203803Z
SUMMARY:Quiz at Riverside Bar\, Beeston Marina
LOCATION:Riverside Bar Beeston Marina Beeston Nottingham  NG9 1NA
ORGANIZER;CN=Jonno1:MAILTO:J.Hall457@btinternet.com
DTSTART;TZID=Etc/GMT+0:20260417T203000
DTEND;TZID=Etc/GMT+0:20260417T223000
X-ALT-DESC;FMTTYPE=TEXT/HTML:Quiz at Riverside Bar\, Beeston Marina.  Meet
  20:30 hrs at the venue.
CATEGORIES:General
URL;VALUE=URI:https://nottinghamivc.org.uk/mc-events/quiz-at-riverside-bar-
 beeston-marina-2/
METHOD:PUBLISH
END:VEVENT
END:VCALENDAR